BEGIN:VCALENDAR
VERSION:2.0
PRODID:-//Gard Info, l&#039;e-magazine du Conseil départemental - ECPv6.13.2.1//NONSGML v1.0//EN
CALSCALE:GREGORIAN
METHOD:PUBLISH
X-WR-CALNAME:Gard Info, l&#039;e-magazine du Conseil départemental
X-ORIGINAL-URL:https://gardinfo.gard.fr
X-WR-CALDESC:Évènements pour Gard Info, l&#039;e-magazine du Conseil départemental
REFRESH-INTERVAL;VALUE=DURATION:PT1H
X-Robots-Tag:noindex
X-PUBLISHED-TTL:PT1H
BEGIN:VTIMEZONE
TZID:Europe/Paris
BEGIN:DAYLIGHT
TZOFFSETFROM:+0100
TZOFFSETTO:+0200
TZNAME:CEST
DTSTART:20240331T010000
END:DAYLIGHT
BEGIN:STANDARD
TZOFFSETFROM:+0200
TZOFFSETTO:+0100
TZNAME:CET
DTSTART:20241027T010000
END:STANDARD
BEGIN:DAYLIGHT
TZOFFSETFROM:+0100
TZOFFSETTO:+0200
TZNAME:CEST
DTSTART:20250330T010000
END:DAYLIGHT
BEGIN:STANDARD
TZOFFSETFROM:+0200
TZOFFSETTO:+0100
TZNAME:CET
DTSTART:20251026T010000
END:STANDARD
END:VTIMEZONE
BEGIN:VEVENT
DTSTART;VALUE=DATE:20240917
DTEND;VALUE=DATE:20250601
DTSTAMP:20260421T131418
CREATED:20240920T072400Z
LAST-MODIFIED:20240920T072400Z
UID:56625-1726531200-1748735999@gardinfo.gard.fr
SUMMARY:Chroniques sportives : la pratique sportive dans le Gard de l’Ancien Régime à nos jours
DESCRIPTION:L’exposition Chroniques sportives présentée aux Archives départementales du Gard s’intéresse à la pratique sportive dans le Gard de l’Ancien Régime à nos jours à travers les événements sportifs qui ont marqué notre département\, des joutes pratiquées dès le Moyen Âge aux jeux de boules ou à la course camarguaise observée dès le milieu du XIXe siècle\, sans oublier l’incontournable Tour de France qui est passé plusieurs fois dans le Gard.\nCette rétrospective sportive historique revient aussi sur des rencontres sportives plus récentes comme l’Étoile de Bessèges ou encore le Critérium des Cévennes.\nIl s’agit aussi de mettre à l’honneur\, en cette année olympique 2024\, les valeurs éthiques que véhicule le sport\, dépassement de soi\, respect de l’adversaire\, solidarité et esprit d’équipe.\nL’exposition retrace également l’évolution de la pratique sportive qui se démocratise peu à peu au début du XXe siècle avec l’émergence des premières associations sportives et la construction des premiers équipements sportifs.\nCette exposition est par ailleurs l’occasion de rendre hommage à Gaston Doumergue qui proclama l’ouverture des Jeux Olympiques de Paris en 1924. Il fut tour à tour député\, ministre\, sénateur et président de la République de 1924 à 1931. Gaston Doumergue fut également un grand passionné de sport et présida de nombreuses rencontres sportives. \nL’exposition est visible jusqu’au 31 mai 2025.  \nAccès libre et gratuit.\nParking gratuit.
URL:https://gardinfo.gard.fr/agenda/chroniques-sportives-la-pratique-sportive-dans-le-gard-de-lancien-regime-a-nos-jours/
LOCATION:Archives départementales du Gard\, 365\, rue du Forez\, Nîmes\, 30000
CATEGORIES:Découverte,Exposition,patrimoine,Sport
ATTACH;FMTTYPE=image/jpeg:https://gardinfo.gard.fr/wp-content/uploads/2024/09/csm_ADG_-_EXPO_CHRONIQUES_SPORTIVES_AFFICHE-WEB_a9d87604d8.jpg
ORGANIZER;CN="Archives d%C3%A9partementales du Gard":MAILTO:archives@gard.fr
END:VEVENT
BEGIN:VEVENT
DTSTART;VALUE=DATE:20241217
DTEND;VALUE=DATE:20250505
DTSTAMP:20260421T131418
CREATED:20241217T155148Z
LAST-MODIFIED:20250225T090737Z
UID:57221-1734393600-1746403199@gardinfo.gard.fr
SUMMARY:De Renoir à van Dongen
DESCRIPTION:L’exposition « De Renoir à van Dongen » prend racine et se déploie dans l’intégralité des salles du musée Albert-André de Bagnols-sur-Cèze et au Musée laïque d’art sacré de Pont-Saint-Esprit. Au total\, une centaine d’œuvres sont présentées.\nPour faire vivre cette exposition événement\, la Conservation départementale du Gard propose des visites guidées\, des ateliers plastiques pour les familles\, des ateliers artistiques pour les adultes\, une conférence et des rendez-vous En tête-à-tête avec les œuvres.\nL’exposition est organisée en quatre chapitres\, chacun dédié à l’une des personnalités ayant permis la constitution des collections du musée Léon Alègre\, Albert André\, Jacqueline Bret-André et George Besson. Un catalogue relatant toutes les œuvres présentes sur site a également été réalisé.  \nMusée Albert-André de Bagnols-sur-Cèze du mardi au dimanche de 10h à 12h et de 14h à 18h. Visites guidées à 10h30 les 25 février\, 15 et 11 avril. Tout public (4€)\, dans la limite des places disponibles\nMusée laïque d’art sacré de Pont-Saint-Esprit du mardi au samedi de 9h30 à 12h et de 13h30 à 17h. Visites guidées à 10h30 les 28 février\, 18 et 25 avril. Tout public\, dans la limite des places disponibles
URL:https://gardinfo.gard.fr/agenda/de-renoir-a-van-dogen/
LOCATION:Musée Albert André à Bagnols-sur-Cèze\, 2 e étage de l’Hôtel de Ville - Place Mallet\, Bagnols-sur-Cèze\, Sélectionner un État :\, 30200\, France
CATEGORIES:Atelier,Conférence,Découverte,Exposition,Musées,patrimoine,Visite
ATTACH;FMTTYPE=image/jpeg:https://gardinfo.gard.fr/wp-content/uploads/2024/12/Canal-a-Venise.jpg
END:VEVENT
BEGIN:VEVENT
DTSTART;TZID=Europe/Paris:20250308T100000
DTEND;TZID=Europe/Paris:20250308T170000
DTSTAMP:20260421T131418
CREATED:20250224T135005Z
LAST-MODIFIED:20250224T135005Z
UID:57721-1741428000-1741453200@gardinfo.gard.fr
SUMMARY:Fête de la nature et du vivant
DESCRIPTION:La 2e édition de cette manifestation proposée par le Foyer rural permettra de découvrir les richesses de la faune et de la flore locale\, avec des expositions\, des ateliers\, une ferme pédagogique et un marché de producteurs.\nSous réserve d’annulation en fonction des conditions météorologiques.
URL:https://gardinfo.gard.fr/agenda/fete-de-la-nature-et-du-vivant/
LOCATION:salle du foyer rural – Tornac\, 1543 route de Saint-Hippolyte-du-Fort\, Tornac\, Sélectionner un État :\, 30140\, France
CATEGORIES:Atelier,Conférence,Découverte,Environnement,Exposition,Fête,Gastronomie,Jardins,patrimoine,Visite
ATTACH;FMTTYPE=image/png:https://gardinfo.gard.fr/wp-content/uploads/2025/02/Affiche-FNV-2025.png
END:VEVENT
BEGIN:VEVENT
DTSTART;TZID=Europe/Paris:20250308T150000
DTEND;TZID=Europe/Paris:20250309T180000
DTSTAMP:20260421T131418
CREATED:20230622T133729Z
LAST-MODIFIED:20250306T081844Z
UID:53581-1741446000-1741543200@gardinfo.gard.fr
SUMMARY:Jazz à Junas : atelier de poésie libre
DESCRIPTION:Dans un cadre bienveillant\, vous vivrez une plongée rapide dans le monde de l’improvisation parlée. En immersion et guidé par Arthur Ribo\, on développe son écoute\, son style littéraire\, sa créativité\, son imagination\, sa présence sur scène. En considérant le Slam comme une forme contemporaine d ‘expression\, l’écriture devient aussi « le pouvoir de dire ». Objectifs : « Déscolariser » l’écriture : montrer qu’elle n’est pas une contrainte\, qu’elle peut être un terrain de jeu et de création ; créer\, s’exprimer et échanger au sein d’un groupe; acquérir en s’amusant des outils et des techniques d’écriture ; s’exposer au regard des autres et se mettre en scène.  \nSur inscription\, places limitées ouvert aux 15 – 20 ans. Rendez-vous dans la salle multimédia
URL:https://gardinfo.gard.fr/agenda/jazz-a-junas-7/
LOCATION:Espace Lawrence Durrell à Sommières\, 245 bd Ernest François\, Sommières\, 30250\, France
CATEGORIES:Atelier,Découverte,Fête,Spectacle,Théâtre
ATTACH;FMTTYPE=image/jpeg:https://gardinfo.gard.fr/wp-content/uploads/2023/06/mOufkqvVlX3Y.jpg
END:VEVENT
BEGIN:VEVENT
DTSTART;TZID=Europe/Paris:20250308T190000
DTEND;TZID=Europe/Paris:20250308T213000
DTSTAMP:20260421T131418
CREATED:20230622T131020Z
LAST-MODIFIED:20250306T081536Z
UID:53571-1741460400-1741469400@gardinfo.gard.fr
SUMMARY:Jazz à Junas : Désir de dire
DESCRIPTION:En partenariat avec le Réseau des Médiathèques de la Communauté de Communes du Pays de Sommières\, Jazz à Junas propose une soirée avec Arthur Ribo et son spectacle Désir de dire.\nCe manifeste autour de la parole\, entre démonstration de PLEI (Poésie Libre Et Improvisée)\, conférence gesticulée et scène ouverte est un spectacle interactif\, inclusif dans lequel il sera aussi question de vous. Les musicien.nes sont invitées à venir avec leurs instruments !  \nEn partenariat avec le centre social Calade\, buvette et snack vous seront proposé à Sommières et un temps d’échanges sera possible après le spectacle.\nDurée : 75 minutes Sur réservation :\nMédiathèque Saussines : Tél. 04 67 59 76 23 ou bib.saussines@lunelagglo.fr
URL:https://gardinfo.gard.fr/agenda/jazz-a-junas-jazz-a-vauvert-2/
LOCATION:Espace Lawrence Durrell à Sommières\, 245 bd Ernest François\, Sommières\, 30250\, France
CATEGORIES:Conférence,Découverte,Fête,Spectacle,Théâtre
ATTACH;FMTTYPE=image/jpeg:https://gardinfo.gard.fr/wp-content/uploads/2023/06/mOufkqvVlX3Y.jpg
END:VEVENT
END:VCALENDAR